BEGIN:VCALENDAR
VERSION:2.0
PRODID:-//eventon.com NONSGML v1.0//EN
BEGIN:VEVENT
UID:69e9525e33a35
DTSTAMP:20260423T005734
DTSTART:20210312T170000Z
DTEND:20210312T200000Z
LOCATION:Lyss\,  Hotel Weisses Kreuz Marktplatz 15
SUMMARY:Fortbildungskurs Kampfrichter LA STV und Swiss Athletic / online
DESCRIPTION: Dieser Kurs wird online durchgeführtZielpublikumRichtet sich an die Kampfrichter der LeichtathletikMitbringenSTV-Mitgliederkarte\,  Kursausweis\,  Notiz- und SchreibmaterialKurskostenKeine&nbsp;KontaktThomas Hämmerli la@tb-seeland.ch
END:VEVENT
END:VCALENDAR