BEGIN:VCALENDAR
VERSION:2.0
PRODID:-//eventon.com NONSGML v1.0//EN
BEGIN:VEVENT
UID:69e88f00f1edb
DTSTAMP:20260422T110400
DTSTART:20210326T220000Z
DTEND:20210327T215900Z
LOCATION:Turnhallen BBZ Biel 
SUMMARY:TBS-Unihockeyturnier Aktive 2021
DESCRIPTION: ABGESAGT\,  wird evt. verschobenEinmaliges Unihockey Turnier für alle Turnvereine des TBS!Die ideale Infrastruktur (zwei Dreifachhallen mit 4 Spielfeldern) bietet die Voraussetzung für ein sportliches Abenteuer ohne lange Wartezeiten bei welchem auch die Schiedsrichter durch den Organisator gestellt werden.Dieses Turnier richtet sich an Turnvereine\,  welche mit einer Open-\,  Aktiv-\,  Mixed- oder Männer-Mannschaft[..]
END:VEVENT
END:VCALENDAR