BEGIN:VCALENDAR
VERSION:2.0
PRODID:-//eventon.com NONSGML v1.0//EN
BEGIN:VEVENT
UID:69e879b45ea3e
DTSTAMP:20260422T093308
DTSTART:20221024T170000Z
DTEND:20221024T200000Z
LOCATION:schriftlich 
SUMMARY:TBS PLK\,  Präsidenten- und Leiterkonferenz
DESCRIPTION: Die PLK findet nicht virtuell statt. Wir werden die Informationen schriftlich verschicken.Einzelheiten folgen
END:VEVENT
END:VCALENDAR