BEGIN:VCALENDAR
VERSION:2.0
PRODID:-//eventon.com NONSGML v1.0//EN
BEGIN:VEVENT
UID:69e862df97708
DTSTAMP:20260422T075543
DTSTART:20201205T110000Z
DTEND:20201205T160000Z
LOCATION:Port\,  Mehrzweck-Sporthalle Allmendstrasse 23\,  2562 Port
SUMMARY:TBS DV\,  Delegierten Versammlung
DESCRIPTION: ABGESAGTAuf Grund der momentan Situation und den steigenden Fallzahlen findet die DV 2020 NICHT statt. Abstimmungen und Wahlen werden in schriftlicher Form durchgeführt. Die Stimmberechtigten werden zu gegebener Zeit über den genauen Ablauf informiert.
END:VEVENT
END:VCALENDAR