BEGIN:VCALENDAR
VERSION:2.0
PRODID:-//eventon.com NONSGML v1.0//EN
BEGIN:VEVENT
UID:69e84c5f8e52e
DTSTAMP:20260422T061943
DTSTART:20210821T060000Z
DTEND:20210822T160000Z
LOCATION:Toffen (Turnhalle Matte) 
SUMMARY:Grundkurs Muki/Elki des VBT (3-teilig)
DESCRIPTION: ABGESAGTDer Grundkurs muss auf Grund von zu wenig Teilnehmer abgesagt werden.InhaltEs erwartet dich eine methodisch-didaktische Ausbildung auf der Grundlage des Handbuchs Muki Turnen. Mit alters- und leistungsgerechten Beispielen erlernst du die praktische Umsetzung.KurszielVorbereitung und Motivation auf die Leitertätigkeit Muki-Turnstunden planen – durchführen - auswertenKurskostenSTV- Mitglieder: Fr. 350.-Nicht STV- Mitglieder: Fr. 650.-In den[..]
END:VEVENT
END:VCALENDAR