BEGIN:VCALENDAR
VERSION:2.0
PRODID:-//eventon.com NONSGML v1.0//EN
BEGIN:VEVENT
UID:69e8342a4674c
DTSTAMP:20260422T043626
DTSTART:20210625T163000Z
DTEND:20210625T203000Z
LOCATION:Lyss Grien 
SUMMARY:LA-Mannschaftsmehrkampf LMM 2021
DESCRIPTION: Vorrundenqualifikation. Das Wichtigste in Kürze: 18 Kategorien\,  Disziplinen: 60/80/100m Sprint\,  Weit- und Hochsprung\,  Kugelstossen\,  Ballwurf\,  800/1000m Lauf.Pro Mannschaft dürfen mindestens 4 und höchstens 6 Teilnehmer/innen starten. Startgeld: Fr. 30.-- pro Mannschaft ist am Wettkampftag bei der Anmeldung direkt zu bezahlen.Der Wettkampf wird durchgeführt. Wir haben bereits genügend Anmeldungen.AusschreibungAnmeldungKontakt:Thomas Hämmerlila@tb-seeland.ch
END:VEVENT
END:VCALENDAR