BEGIN:VCALENDAR
VERSION:2.0
PRODID:-//eventon.com NONSGML v1.0//EN
BEGIN:VEVENT
UID:69e8490c32dd3
DTSTAMP:20260422T060532
DTSTART:20250502T220000Z
DTEND:20250503T215900Z
LOCATION:Turnhalle Büren a.A. 
SUMMARY:Gym Day 2025
DESCRIPTION: Richtet sich an Gymnastik- und Team-Aerobic Vereine Jugend\,  Aktive und FMS Der GymDay wird erneut vom TV Büren a.A. durchgeführt.Ausschreibung und AnmeldungWeitere Infos auf der Homepage des Organisators.
END:VEVENT
END:VCALENDAR