BEGIN:VCALENDAR
VERSION:2.0
PRODID:-//eventon.com NONSGML v1.0//EN
BEGIN:VEVENT
UID:69ea3444bae48
DTSTAMP:20260423T170124
DTSTART:20241028T163000Z
DTEND:20241028T200000Z
LOCATION:Wird noch bekannt gegeben 
SUMMARY:TBS PLK\,  Präsidenten- und Leiterkonferenz
DESCRIPTION: Die PLK wird/wurde ersetzt durch die a.o. Generalversammlung vom 29. August 2024
END:VEVENT
END:VCALENDAR