BEGIN:VCALENDAR
VERSION:2.0
PRODID:-//eventon.com NONSGML v1.0//EN
BEGIN:VEVENT
UID:69e8c8c202ef1
DTSTAMP:20260422T151026
DTSTART:20211029T220000Z
DTEND:20211030T215900Z
LOCATION:Turnhallen BBZ Biel 
SUMMARY:Gemeinsamer Kreiskurs Jugend/Aktive
DESCRIPTION: KursbeschreibungDer Kreiskurs wird Samstag und Sonntag durchgeführt. Der J+S Kurs wird im Kreiskurs integriert\,  dieser Anmeldeschluss ist bereits vorbei.Es werden verschiedene Wahllektionen angeboten. Jeder Teilnehmer stellt sich seinen eigenen Trainingstag zusammen und gibt bei der Anmeldung jeweils die entsprechenden Lektionen ein. Die Teilnehmerzahlen pro Lektion sind limitiert.Covid-Zertifikats-PflichtGemäss den neuen Weisungen[..]
END:VEVENT
END:VCALENDAR