BEGIN:VCALENDAR
VERSION:2.0
PRODID:-//eventon.com NONSGML v1.0//EN
BEGIN:VEVENT
UID:69e8a9c94cfff
DTSTAMP:20260422T125817
DTSTART:20261030T220000Z
DTEND:20261031T215900Z
LOCATION:Staffel\,  Schulhausstrasse 23\,  3302 Moosseedorf 
SUMMARY:Frauen und Männer 35+ & 55+ VBT Herbstkurs mit MF esa
DESCRIPTION: Der kantonale Herbstkurs mit MF esa wird 2026 für Frauen und Männer zusammen durchgeführt und findet in Moosseedorf statt. In diesem Jahr ist der TBO Organisator.Ausschreibung und Anmeldung folgen&nbsp;Auskunft:Barbara von Bergentbo@tb-oberland.ch
END:VEVENT
END:VCALENDAR