BEGIN:VCALENDAR
VERSION:2.0
PRODID:-//eventon.com NONSGML v1.0//EN
BEGIN:VEVENT
UID:69e8a12d7c981
DTSTAMP:20260422T122133
DTSTART:20251213T113000Z
DTEND:20251213T160000Z
LOCATION:Hotel Weisses Kreuz\,  Lyss 
SUMMARY:TBS DV\,  Delegiertenversammlung
DESCRIPTION: Die Delegiertenversammlung des TBS 2025 organisiert der TV Lyss im Hotel Weissen Kreuz in Lyss.Die Einladung wird den TBS Vereinen per Mail zugestellt. Die dazugehörenden Dokumente werden rechtzeitig auf der Homepage/News abgelegt.&nbsp;&nbsp;&nbsp;
END:VEVENT
END:VCALENDAR