BEGIN:VCALENDAR
VERSION:2.0
PRODID:-//eventon.com NONSGML v1.0//EN
BEGIN:VEVENT
UID:69e8b8b556bc3
DTSTAMP:20260422T140157
DTSTART:20230930T230000Z
DTEND:20230930T230000Z
LOCATION:Verschiedene 
SUMMARY:Volleyball Männer/Senioren/Veteranen Wintermeisterschaft 2023/24
DESCRIPTION: Die Volleyball Hallen-Wintermeisterschaft der Männer\,  Senioren und Veteranen finden von Oktober 2023 bis März 2024 statt.Alle Informationen findet Ihr in der Ausschreibung / Anmeldung.&nbsp;Auskunft erteilt:Kurt von Burgkurt.vonburg@bluewin.ch+41 79 444 04 71
END:VEVENT
END:VCALENDAR