BEGIN:VCALENDAR
VERSION:2.0
PRODID:-//eventon.com NONSGML v1.0//EN
BEGIN:VEVENT
UID:69ea1d46d19bd
DTSTAMP:20260423T152318
DTSTART:20260330T170000Z
DTEND:20260330T190000Z
LOCATION:Wird noch bekannt gegeben 
SUMMARY:Kantonale Schiedsrichterprüfung Korbball 2026
DESCRIPTION: Wie jedes Jahr bietet die KBKK Interessierten die Möglichkeit\,  die kantonale Schiedsrichterprüfung abzulegen und mit dem erworbenen Brevet Spiele der kantonalen Meisterschaft zu leiten.Wie bisher muss jede Mannschaft\,  die an der kantonalen Meisterschaft teilnimmt\,  einen brevetierten Schiedsrichter stellen!Die Schiedsrichterprüfung wird in zwei Teilen durchgeführt.AusschreibungKontakt:Kantonalbernische Korbball-KommissionManuel Zbinden         [..]
END:VEVENT
END:VCALENDAR