BEGIN:VCALENDAR
VERSION:2.0
PRODID:-//eventon.com NONSGML v1.0//EN
BEGIN:VEVENT
UID:69ea06ce1f964
DTSTAMP:20260423T134726
DTSTART:20260313T220000Z
DTEND:20260314T215900Z
LOCATION:Schindellegi 
SUMMARY:Grundkurs Kampfrichter Vereinsturnen Nationalturnen
DESCRIPTION: Ziel dieses Kurses ist die Vertiefung der Vorschriften Vereinsturnen Nationalturnen und diese imVereinsturn- und Einzelturnwettkampf umzusetzen.Ausschreibung und Anmeldung&nbsp;Auskunft:Mathias Zurbrügg\,  Tel: 079 326 11 10\,  m_zurbruegg@bluemail.ch
END:VEVENT
END:VCALENDAR