BEGIN:VCALENDAR
VERSION:2.0
PRODID:-//eventon.com NONSGML v1.0//EN
BEGIN:VEVENT
UID:69e9eec149ea2
DTSTAMP:20260423T120449
DTSTART:20210319T220000Z
DTEND:20210319T220000Z
LOCATION:Langenthal 
SUMMARY:Grundkurs Kampfrichter LA - VERSCHOBEN
DESCRIPTION: Der Grundkurs Kampfrichter LA wurde auf den 12. Juni 2021 verschoben.Details siehe 12.6.21
END:VEVENT
END:VCALENDAR