BEGIN:VCALENDAR
VERSION:2.0
PRODID:-//eventon.com NONSGML v1.0//EN
BEGIN:VEVENT
UID:69e919e3e8ae1
DTSTAMP:20260422T205635
DTSTART:20260828T220000Z
DTEND:20260829T215900Z
LOCATION:Toffen (Sporthalle Matte) 
SUMMARY:Fortbildungskurs 2 für Leiter/innen Erwachsenen Kind Turnen
DESCRIPTION: Dieser Kurs wird durch die VBT Erwachsenen Kind Verantwortlichen durchgeführt.Alle Informationen dazu findet Ihr in der Ausschreibung.Ausschreibung_FK2_2026&nbsp;
END:VEVENT
END:VCALENDAR