BEGIN:VCALENDAR
VERSION:2.0
PRODID:-//eventon.com NONSGML v1.0//EN
BEGIN:VEVENT
UID:69e9d97f3e896
DTSTAMP:20260423T103407
DTSTART:20210903T220000Z
DTEND:20210904T215900Z
LOCATION:
SUMMARY:FK Schiedsrichterkurs Volleyball - abgesagt
DESCRIPTION: In diesem Jahr werden keine FK Schiedsrichterkurse Volleyball durchgeführt.Wir überspringen das Jahr 2021. Die Schiedsrichter-Anerkennung wird im Seeland um 1 Jahr verlängert.&nbsp;Kontakt und InformationenMarkus Mosermm.moser@gmx.ch&nbsp;
END:VEVENT
END:VCALENDAR