BEGIN:VCALENDAR
VERSION:2.0
PRODID:-//eventon.com NONSGML v1.0//EN
BEGIN:VEVENT
UID:69e9c3871f1de
DTSTAMP:20260423T090023
DTSTART:20210911T060000Z
DTEND:20210912T160000Z
LOCATION:Kirchberg 
SUMMARY:Herbstmeisterschaften EGT
DESCRIPTION: Die TBOE Herbstmeisterschaften im EGT findet 2021 in Kirchberg statt.Alle Informationen und Anmeldung findet Ihr hier.&nbsp;
END:VEVENT
END:VCALENDAR