BEGIN:VCALENDAR
VERSION:2.0
PRODID:-//eventon.com NONSGML v1.0//EN
BEGIN:VEVENT
UID:69e9ae109acbe
DTSTAMP:20260423T072848
DTSTART:20211029T220000Z
DTEND:20211030T215900Z
LOCATION:Moosseedorf 
SUMMARY:esa Modul Fortbildung Leiter
DESCRIPTION: Das Modul ist im VBT Herbstkurs integriert.AusschreibungDie Anmeldung erfolgt mit dem offiziellem Anmeldeformular gemäss esa Kursausschreibung (Link der Kursnummer)&nbsp;Weitere Auskunft erteilt:TBOE Fachgruppe 35+ / 55+Georg TruttmannDorfstrasse 93368 BleienbachTel. 062 923 09 52 / 079 377 16 56georg.truttmann@bluewin.ch
END:VEVENT
END:VCALENDAR