BEGIN:VCALENDAR
VERSION:2.0
PRODID:-//eventon.com NONSGML v1.0//EN
BEGIN:VEVENT
UID:69e998cab6daa
DTSTAMP:20260423T055802
DTSTART:20220609T220000Z
DTEND:20220612T215900Z
LOCATION:Lyss und Aarberg 
SUMMARY:Berner Kantonalturnfest 2022
DESCRIPTION: Willkommen zum Bärner Kantonalturnfescht 2022iiu\,  i bi derbi!Vom 10. bis 12. Juni 2022 und vom 17. bis 19. Juni 2022 feiern wir das "Bärner Kantonalturnfescht 2022" im Berner Seeland.Am ersten Wochenende finden die Jugend-\,  Einzel- und Teamwettkämpfe statt und am zweiten Wochenende die Vereinswettkämpfe der Kategorien Aktive und FMS.Finde alle[..]
END:VEVENT
END:VCALENDAR