BEGIN:VCALENDAR
VERSION:2.0
PRODID:-//eventon.com NONSGML v1.0//EN
BEGIN:VEVENT
UID:69e875badc574
DTSTAMP:20260422T091610
DTSTART:20210911T063000Z
DTEND:20210911T100000Z
LOCATION:Büren a.A. 
SUMMARY:Leiterkurs Jugend-Parcours
DESCRIPTION: Der TBS organisiert für interessierte Leiterinnen und Leiter einen Kurs über die verschiedenen Disziplinen des Jugend-Parcours. Dies sindHindernislaufSpielparcours UnihockeySpieltest AllroundAlle Informationen\,  wie Weisungen und Wertungstabellen findet Ihr auf der STV Homepage.Der Kurs findet in Büren a.A. bei jeder Witterung draussen statt.Bitte bei der Anmeldung ankreuzen für welche Disziplin man interessiert[..]
END:VEVENT
END:VCALENDAR