BEGIN:VCALENDAR
VERSION:2.0
PRODID:-//eventon.com NONSGML v1.0//EN
BEGIN:VEVENT
UID:69e8757112972
DTSTAMP:20260422T091457
DTSTART:20260227T220000Z
DTEND:20260228T215900Z
LOCATION:Toffen (Turnhalle Matte) 
SUMMARY:Grundkurs Muki/Elki des VBT (3-teilig)
DESCRIPTION: Der VBT Grundkurs findet an 3 Wochenenden statt.Datum / Zeit28.2.- 01.03. + 14.- 15.03. + 28.03.2025jeweils 08.00 – 17.00 UhrKurskostenSTV- Mitglieder: Fr. 350.-Nicht STV- Mitglieder: Fr. 650.-In den Kurskosten sind die Kursunterlagen inbegriffenLeitungExpertinnen aus den Berner Turnverbänden (VBT)Für Angemeldete ist der Besuch des ganzen Kurses obligatorischKursausschreibung&nbsp;KontaktRegula Leuenbergerm.r.leuenberger@bluewin.ch
END:VEVENT
END:VCALENDAR