BEGIN:VCALENDAR
VERSION:2.0
PRODID:-//eventon.com NONSGML v1.0//EN
BEGIN:VEVENT
UID:69e890facf695
DTSTAMP:20260422T111226
DTSTART:20221021T220000Z
DTEND:20221022T215900Z
LOCATION:Verschiedene 
SUMMARY:Korbball Herren Wintermeisterschaft 2022/23
DESCRIPTION: Die diesjährigen Hallenkorbballmeisterschaft wird vom TBM durchgeführt und über das Anmeldetool könnt ihr eure Mannschaft entsprechend anmelden.Anmeldung Startgeld: 70.- pro Team (Rechnung beim abschliessen dieser Anmeldung herunterladen)Schiedsrichter: Entschädigung NEU 15.- pro Spiel. Alle Teams sind selber verantwortlich\,  dass der Schiedsrichter zur richtigen Zeit am richtigen Ort steht.Spielzeit: 2x12 Minuten ohne Pause  Kontakte:TBM Adrian Herren\, [..]
END:VEVENT
END:VCALENDAR