BEGIN:VCALENDAR
VERSION:2.0
PRODID:-//eventon.com NONSGML v1.0//EN
BEGIN:VEVENT
UID:69e8b253b923a
DTSTAMP:20260422T133443
DTSTART:20260321T070000Z
DTEND:20260321T100000Z
LOCATION:3661 Uetendorf\,  Allmendstrasse 20 Mehrzweckhalle Bach\,  Allmendstrasse 20
SUMMARY:Fachtest Allround Grundkurs Richterausbildung 2026
DESCRIPTION: VBT Grundkurs Richter Ausbildung Fachtest Allround (FTA) Modul 1Der Kurs wird zusammen mit dem TBO in Uetendorf durchgeführt.KursbeschreibungDieser Kurs ist für alle zukünftigen Schiedsrichter Fachtest AllroundEr umfasst das Modul 1 – Theorie / Praxis / PrüfungAnmeldungDie Anmeldung läuft über den TBO (Turnverband Berner Oberland)Ausschreibung und Anmeldung&nbsp;Weisungen Fachteste Ausgabe 2023Spezielle Weisungen[..]
END:VEVENT
END:VCALENDAR