BEGIN:VCALENDAR
VERSION:2.0
PRODID:-//eventon.com NONSGML v1.0//EN
BEGIN:VEVENT
UID:69e8a1184230d
DTSTAMP:20260422T122112
DTSTART:20260317T170000Z
DTEND:20260317T210000Z
LOCATION:Turnhalle Primarschule Täuffelen\,  Käsereistrasse 3\,  2575 Täuffelen 
SUMMARY:Fachtest Unihockey Richterkurs Modul 1 und 3
DESCRIPTION: DER KURS IST AUSGEBUCHT. ES SIND KEINE ANMELDUNGEN MEHR MÖGLICH.KursbeschreibungRichterkurs Modul 1 und 3 – Grund- und FortbildungskursAusschreibungAnforderungen:Als gute Vorbereitung kennst Du die neuen Weisungen Fachteste 2023 auswendig. Zugriff auf MySTV LoginContest 2.0 Schulungsvideo bereits angesehen (falls verfügbar)Mitbringen:Weisungen Fachteste Ausgabe 2023 und Spezielle Weisungen Fachtest Unihockey / Regelauslegungen November 2024\,  Bildungspass\, [..]
END:VEVENT
END:VCALENDAR