BEGIN:VCALENDAR
VERSION:2.0
PRODID:-//eventon.com NONSGML v1.0//EN
BEGIN:VEVENT
UID:69e8a0d358e42
DTSTAMP:20260422T122003
DTSTART:20260129T170000Z
DTEND:20260129T210000Z
LOCATION:Kallnach\,  Mehrzweckhalle\,  Oberfeld 22 
SUMMARY:Fachtest Volleyball Richterausbildung 2026
DESCRIPTION: Fachtest Volleyball Richter Ausbildung Modul 1 und Modul 3Anforderungen:Als gute Vorbereitung kennst Du die neuen Weisungen Fachteste 2023 auswendig.Mitbringen:Zwingend STV-Bildungspass (kann auf Platz gekauft werden)\,  STV-Mitgliederkarte\, Notiz- und SchreibmaterialTimer\,  Drückerli und Pfeife\, Turn- und DuschutensilienWeisungen Fachteste Ausgabe 2023Download:       https://www.stv-fsg.ch/de/sportarten/turnen-erwachsene/fachteste.html Kurskosten- Mitglieder VBT (TBS\,  TBM\,  TBO\,  TBOE\,  AGJB): Keine- Mitglieder ausserkantonal: Fr. 30.00 VersicherungVersicherung ist[..]
END:VEVENT
END:VCALENDAR