BEGIN:VCALENDAR
VERSION:2.0
PRODID:-//eventon.com NONSGML v1.0//EN
BEGIN:VEVENT
UID:69e8b8e90049a
DTSTAMP:20260422T140249
DTSTART:20211103T170000Z
DTEND:20211103T200000Z
LOCATION:Lyss\,  Hotel Weisses Kreuz Marktplatz 15
SUMMARY:FMS (35+/55+) Workshop
DESCRIPTION: Am 3. November 2021 findet im Restaurant Weisses Kreuz in Lyss ein Workshop für die FMS (35+/55+) Vereine statt mit dem Hauptthema: „Wie weiter mit dem FMS im Seeland?“Der Workshop besteht aus Informationen vom TBS und Gruppenarbeiten der Teilnehmer.Es wird erwünscht\,  dass alle Seeländer Vereine am Workshop vertreten sind.EinladungAm Anlass[..]
END:VEVENT
END:VCALENDAR