BEGIN:VCALENDAR
VERSION:2.0
PRODID:-//eventon.com NONSGML v1.0//EN
BEGIN:VEVENT
UID:69e8a0f3b04aa
DTSTAMP:20260422T122035
DTSTART:20260318T163000Z
DTEND:20260318T193000Z
LOCATION:Rest. Weisses Kreuz\,  Lyss 
SUMMARY:Fortbildungskurs LA-Kampfrichter STV und Swiss Athletic 2026
DESCRIPTION: ZielpublikumRichtet sich an die Kampfrichter der LeichtathletikMitbringenSTV-Mitgliederkarte\,  Kursausweis\,  Notiz- und SchreibmaterialKurskostenSTV und Swiss Athletics Mitglieder: KeineNichtmitglieder: CHF 200.00!! ACHTUNG !!! Neu müssen sich die Teilnehmer mit dem MySTV Login über den STV Link anmelden. KontaktThomas Hämmerli la@tb-seeland.ch
END:VEVENT
END:VCALENDAR