BEGIN:VCALENDAR
VERSION:2.0
PRODID:-//eventon.com NONSGML v1.0//EN
BEGIN:VEVENT
UID:69e88a527b695
DTSTAMP:20260422T104402
DTSTART:20211113T220000Z
DTEND:20211114T215900Z
LOCATION:Verschiedene 
SUMMARY:U21 - Korbballmeisterschaft Kantonal Qualifikation
DESCRIPTION:  Regionale Hallen Korbballmeisterschaft und Qualifikation zu den Aufstiegsspielen der U21 Damen und Herren.Teilnahmeberechtigt: Damen und Herren mit Jahrgang 2001 und jüngerSpieldaten 2021/2022:Sonntag\,  14. November 2021      in UrtenenSonntag\,  16. Januar 2022            in NeueneggAufstiegsspiele SM: Sonntag\,  6. März 2022 in MoosseedorfAlle Infos auf www.korbball.beAusschreibungAnmeldung DamenAnmeldung[..]
END:VEVENT
END:VCALENDAR