BEGIN:VCALENDAR
VERSION:2.0
PRODID:-//eventon.com NONSGML v1.0//EN
BEGIN:VEVENT
UID:69e88a6e3d2cc
DTSTAMP:20260422T104430
DTSTART:20260313T220000Z
DTEND:20260315T215900Z
LOCATION:Ins (Sporthalle Rötschenmatte) 
SUMMARY:30. Seel. Unihockeyturnier Jugend 2026
DESCRIPTION: Am Seeländischen Jugend Unihockeyturnier können alle schulpflichtigen Mädchen undKnaben\,  welche Mitglied einer Jugend- oder Mädchenriege im Turnverband Bern Seeland sind\,  teilnehmen.In Absprache mit der Wettkampfleitung können Gastriegen zum Start zugelassen werden.Ausschreibung und AnmeldungSpielpläne und Resultate:Kategorie AKategorie BKategorie CKategorie DKategorie EKontaktFabio SchumacherNatel: 079 956 61 20E-Mail: sjuht@tvins.ch
END:VEVENT
END:VCALENDAR