BEGIN:VCALENDAR
VERSION:2.0
PRODID:-//eventon.com NONSGML v1.0//EN
BEGIN:VEVENT
UID:69e8cd927d296
DTSTAMP:20260422T153058
DTSTART:20250315T063000Z
DTEND:20250315T143000Z
LOCATION:Toffen (Sporthalle Matte) 
SUMMARY:Fortbildungskurs 1 für Leiter/innen Muki Turnen
DESCRIPTION: Kursthemen„Ufem  Burehof“„Im Märliland“„Bächere chlii u gross“„erste Hilfe“ externe Referentin 2 LektionenAusschreibung und Anmeldung&nbsp;
END:VEVENT
END:VCALENDAR