BEGIN:VCALENDAR
VERSION:2.0
PRODID:-//eventon.com NONSGML v1.0//EN
BEGIN:VEVENT
UID:69e8e6043b7bd
DTSTAMP:20260422T171516
DTSTART:20220325T220000Z
DTEND:20220326T215900Z
LOCATION:Turnhallen BBZ Biel 
SUMMARY:V E R S C H O B E N         TBS-Unihockeyturnier Aktive 2022
DESCRIPTION: Das Turnier wird in den Herbst verschoben. Neues Datum ist der 17.9.Einmaliges Unihockey Turnier für alle Turnvereine des TBS!Die ideale Infrastruktur (zwei Dreifachhallen mit 4 Spielfeldern) bietet die Voraussetzung für ein sportliches Abenteuer ohne lange Wartezeiten bei welchem auch die Schiedsrichter durch den Organisator gestellt werden.Dieses Turnier richtet sich an Turnvereine\, [..]
END:VEVENT
END:VCALENDAR