BEGIN:VCALENDAR
VERSION:2.0
PRODID:-//eventon.com NONSGML v1.0//EN
BEGIN:VEVENT
UID:69e8fa75eda57
DTSTAMP:20260422T184229
DTSTART:20220426T180000Z
DTEND:20220426T193000Z
LOCATION:Orpund\,  Mehrzweckhalle Primarschulhaus 
SUMMARY:Abendkurs Stuhllektion für Seniorinnen/Senioren
DESCRIPTION: ZielpublikumLeiterinnen und Leiter der Seniorinnen und Senioren Riegen. In diesem Kurs zeigen wir Turnen sitzend auf und mit dem Stuhl. Kraft\,  Koordination\,  Choreo\,  SpieleMindestteilnehmerzahl15 PersonenMitbringenSportbekleidung\,  STV-Mitgliederkarte\,  Bildungspass\,  Notiz- und Schreibmaterial.LeitungTBS Kernteam 55+Kosten- Mitglieder TBS (TBM\,  TBO\,  TBOE): Keine- Mitglieder ausserkantonal: Fr. 30.00- Andere: Fr. 100.-Genaue Adresse:Primarschulhaus\,  Schulhausstrasse 15\,  2552 OrpundKontaktSandra Obergsell\, gs-ausbildung@tb-seeland.ch
END:VEVENT
END:VCALENDAR