BEGIN:VCALENDAR
VERSION:2.0
PRODID:-//eventon.com NONSGML v1.0//EN
BEGIN:VEVENT
UID:69e8f90bb3633
DTSTAMP:20260422T183627
DTSTART:20220402T100000Z
DTEND:20220402T150000Z
LOCATION:Römerhof\,  Bühl 
SUMMARY:TBS Workshop
DESCRIPTION: Dem Vorstand ist es ein Anliegen sich mit den Vereinen austauschen zu können. Aus diesem Grund wird am 02. April 2022  ein Workshop stattfinden\,  damit Anliegen und Inputs persönlich besprochen werden können und man so zusammen in die Zukunft blicken kann. Alle Informationen zum Workshop findet Ihr in der Einladung.Einladung&nbsp;Bei Fragen[..]
END:VEVENT
END:VCALENDAR