BEGIN:VCALENDAR
VERSION:2.0
PRODID:-//eventon.com NONSGML v1.0//EN
BEGIN:VEVENT
UID:69e9108fc0091
DTSTAMP:20260422T201647
DTSTART:20260327T220000Z
DTEND:20260328T215900Z
LOCATION:Turnhallen BBZ Biel\,  Wasenstrasse 5\,  2504 Biel 
SUMMARY:TBS-Unihockeyturnier Aktive 2026
DESCRIPTION: Einzigartiges Unihockey Turnier für alle Turnvereine! Die ideale Infrastruktur (zwei Dreifachhallen mit4 Spielfeldern) bietet die Voraussetzung für ein sportliches Kräftemessen ohne lange Wartezeiten.Dieses Turnier richtet sich an Turnvereine\,  welche mit einem Aktiv-\,  Mixed-\,  oder Männer-Team am UnihockeyTurnier teilnehmen möchten. Jahrgang 2010 und älter für Kategorie Aktive und Mixed. Jahrgang 1991[..]
END:VEVENT
END:VCALENDAR