BEGIN:VCALENDAR
VERSION:2.0
PRODID:-//eventon.com NONSGML v1.0//EN
BEGIN:VEVENT
UID:69e9257f405ce
DTSTAMP:20260422T214607
DTSTART:20250912T220000Z
DTEND:20250914T215900Z
LOCATION:Utzenstorf 
SUMMARY:Oberaargau-Emmental-Meisterschaften Einzel-/Teamgeräteturnen
DESCRIPTION: Die Meisterschaften vom TBOE wird 2025 organisiert vom GymCenter Emme in Utzenstorf.WettkampfvorschriftenAnmeldungAlle weiteren Informationen werden auf der Homepage vom Organisator aufgeschaltet.
END:VEVENT
END:VCALENDAR