BEGIN:VCALENDAR
VERSION:2.0
PRODID:-//eventon.com NONSGML v1.0//EN
BEGIN:VEVENT
UID:69e8ef8bd7534
DTSTAMP:20260422T175555
DTSTART:20250523T220000Z
DTEND:20250525T215900Z
LOCATION:Mehrzweckhalle ABC-Zentrum\,  Spiez 
SUMMARY:Oberländische Gerätemeisterschaften 2025
DESCRIPTION: Die diesjährigen Oberländischen Gerätemeisterschaften finden in Spiez statt\,  organisiert durch den TV SpiezAusschreibung/AnmeldungAlle weiteren Infos sind auf der Homepage des Organisators zu finden.&nbsp;&nbsp;
END:VEVENT
END:VCALENDAR