BEGIN:VCALENDAR
VERSION:2.0
PRODID:-//eventon.com NONSGML v1.0//EN
BEGIN:VEVENT
UID:69e8e98857799
DTSTAMP:20260422T173016
DTSTART:20221022T100000Z
DTEND:20221022T160000Z
LOCATION:Mehrzweck-Sporthalle Port Allmendstrasse 23\,  2562 Port
SUMMARY:100. Veteranen-Tagung der Turnerveteranen-Vereinigung Bern Seeland
DESCRIPTION: Die 100. Veteranen-Tagung findet in der Sporthalle Port ab 12.00 Uhr statt und wird durch den Turnverein Brügg organisiert.Die Veteranen wurden dazu direkt und separat eingeladen.
END:VEVENT
END:VCALENDAR