BEGIN:VCALENDAR
VERSION:2.0
PRODID:-//eventon.com NONSGML v1.0//EN
BEGIN:VEVENT
UID:69e8b82b18111
DTSTAMP:20260422T135939
DTSTART:20260313T220000Z
DTEND:20260314T215900Z
LOCATION:Schindellegi und Rikon 
SUMMARY:Fortbildungskurse Kampfrichter Vereinsturnen Nationalturnen
DESCRIPTION: Ziel dieses Kurses ist die Vertiefung in die Vorschriften Vereinsturnen Nationalturnen und diese imVereinsturn- und Einzelturnwettkampf umzusetzen.Es gibt 2 Kurse:14.03.26 in Schindellegi SZ09.04.26 in Rikon im Tösstal ZHAusschreibung und Anmeldung&nbsp;Auskunft:Mathias Zurbrügg\,  Tel: 079 326 11 10\,  m_zurbruegg@bluemail.ch
END:VEVENT
END:VCALENDAR