BEGIN:VCALENDAR
VERSION:2.0
PRODID:-//eventon.com NONSGML v1.0//EN
BEGIN:VEVENT
UID:69e8a0d92599e
DTSTAMP:20260422T122009
DTSTART:20260206T173000Z
DTEND:20260206T200000Z
LOCATION:Turnhalle Busswil 
SUMMARY:Fachtest Allround Richterausbildung Fortbildungskurs 2026
DESCRIPTION: Fortbildungskurs Richter Ausbildung Fachtest Allround (FTA) Modul 3KursbeschreibungDer Kurs umfasst das Modul 3 – Vertiefung (Fortbildung)AnmeldungOnline Anmeldung bis am 23. Januar 2026Bei zu vielen Anmeldungen erhalten TBS Kursteilnehmer den Vorzug.Anforderungen:Als gute Vorbereitung kennst Du die neuen Weisungen Fachteste 2023 auswendig.Mitbringen:HallenschuheNotiz- und SchreibmaterialTimer\,  Drückerli und Pfeife\, Download  aller Weisungen und Regelauslegungen von[..]
END:VEVENT
END:VCALENDAR