BEGIN:VCALENDAR
VERSION:2.0
PRODID:-//eventon.com NONSGML v1.0//EN
BEGIN:VEVENT
UID:69e8b85ab77e6
DTSTAMP:20260422T140026
DTSTART:20260124T080000Z
DTEND:20260124T121500Z
LOCATION:Sportanlage Schönau\,  Schönauweg\,  3612 Steffisburg 
SUMMARY:VBT Gymnastik und Aerobic Kurs
DESCRIPTION: Dieser Kurs ist für alle Gymnastik und Aerobic Leiterinnen und Leiter und gibt ihnen wertvolle Tipps über Formationen\,  Kombinationen und Choreos.Alle Infos sind in der Ausschreibung zu lesen.AusschreibungKursprogrammDie Anmeldung läuft über die Homepage vom TBM&nbsp;Kontakt:Sandra Obergsellgs-ausbildung@tb-seeland.ch&nbsp;
END:VEVENT
END:VCALENDAR