BEGIN:VCALENDAR
VERSION:2.0
PRODID:-//eventon.com NONSGML v1.0//EN
BEGIN:VEVENT
UID:69e8cdb22338d
DTSTAMP:20260422T153130
DTSTART:20231104T220000Z
DTEND:20231105T215900Z
LOCATION:Hallenstadion Zürich 
SUMMARY:Swiss Cup Zürich
DESCRIPTION: Zum 40. Mal findet der Swiss Cup Zürich statt\,  einer der hochkarätigsten Sportevents der Schweiz. Fiebere mit\,  wenn die besten Turner*innen der Welt ihr Können zeigen. Neben den eindrücklichen Licht- und Toneffekten garantiert auch der spannende Wettkampfmodus ein Spektakel der Sonderklasse. Denn der Swiss Cup Zürich ist ein Paarwettkampf: Je[..]
END:VEVENT
END:VCALENDAR