BEGIN:VCALENDAR
VERSION:2.0
PRODID:-//eventon.com NONSGML v1.0//EN
BEGIN:VEVENT
UID:69e8e454d3731
DTSTAMP:20260422T170804
DTSTART:20240302T070000Z
DTEND:20240302T113000Z
LOCATION:Turnhalle Wohlen\,  Schulgasse 18\,  3033 Wohlen Mehrzweckhalle Bach\,  Allmendstrasse 20
SUMMARY:TBM Fachtest Allround Grundkurs Richterausbildung
DESCRIPTION: TBM Grundkurs Richter Ausbildung Fachtest Allround (FTA) Modul 1KursbeschreibungDieser Kurs ist für alle zukünftigen Schiedsrichter Fachtest AllroundEr umfasst das Modul 1 – Theorie / Praxis / PrüfungAnmeldungDie Anmeldung läuft über den TBM (Turnverband Bern Mittelland)Ausschreibung und AnmeldungWeisungen Fachteste Ausgabe 2023Spezielle Weisungen Fachtest Allround Regelauslegungen Kurskosten- Mitglieder VBT (TBS\,  TBM\,  TBO\,  TBOE\, [..]
END:VEVENT
END:VCALENDAR