BEGIN:VCALENDAR
VERSION:2.0
PRODID:-//eventon.com NONSGML v1.0//EN
BEGIN:VEVENT
UID:69e8cd399e35e
DTSTAMP:20260422T152929
DTSTART:20240302T083000Z
DTEND:20240302T113000Z
LOCATION:Turnhalle Wohlen\,  Schulgasse 18\,  3033 Wohlen Mehrzweckhalle Bach\,  Allmendstrasse 20
SUMMARY:TBM Fachtest Allround Fortbildungskurs Richterausbildung
DESCRIPTION: TBM Fortbildungskurs Richter Ausbildung Fachtest Allround (FTA) Modul 3KursbeschreibungDieser Kurs ist für alle\,  die letztes Jahr (2023) Modul 1 und 2 abgeschlossenhaben und Richter FTA\,  welche der Fortbildungspflicht nicht nachgekommen sindEr umfasst das Modul 3 – Theorie / Praxis AnmeldungDie Anmeldung läuft über den TBM (Turnverband Bern Mittelland)Ausschreibung und AnmeldungWeisungen Fachteste[..]
END:VEVENT
END:VCALENDAR