BEGIN:VCALENDAR
VERSION:2.0
PRODID:-//eventon.com NONSGML v1.0//EN
BEGIN:VEVENT
UID:69e8a0a54ca16
DTSTAMP:20260422T121917
DTSTART:20250331T163000Z
DTEND:20250331T200000Z
LOCATION:Rest. Weisses Kreuz\,  Lyss / Kt. Bern 
SUMMARY:Grundkurs für LA-Kampfrichter STV und Swiss Athletic 2. Teil
DESCRIPTION: Der 2. Theorieteil kann nur besucht werden\,  wenn der 1. Teil am 10. März 2025 absolviert wurde.Anmeldung zum Grundkurs bitte in der Agenda vom 10.3.25 ausfüllenKostenSTV und Swiss Athletics Mitglieder: KeineNichtmitglieder: CHF 200.00BesonderesDer Grundkurs besteht aus 2 Theorieteilen und 1 Praxiseinsatz an einem LA-Meeting inkl. Prüfung (ca. 3-5 Std.)Daten1. Theorie[..]
END:VEVENT
END:VCALENDAR