BEGIN:VCALENDAR
VERSION:2.0
PRODID:-//eventon.com NONSGML v1.0//EN
BEGIN:VEVENT
UID:69e88a6db8f73
DTSTAMP:20260422T104429
DTSTART:20260307T080000Z
DTEND:20260307T140000Z
LOCATION:Sporthalle Schüpfen 
SUMMARY:KiTu-Plauschtag 2026
DESCRIPTION: &nbsp;Am KiTu-Plauschtag gibt es einen Postenlauf\,  welcher in der KiTu-Gruppe gemeinsam absolviert wird. AusschreibungAnmeldeformular&nbsp;Auskunft gibt:kitugrossaffoltern@gmail.com
END:VEVENT
END:VCALENDAR