BEGIN:VCALENDAR
VERSION:2.0
PRODID:-//eventon.com NONSGML v1.0//EN
BEGIN:VEVENT
UID:69e88a1f3535a
DTSTAMP:20260422T104311
DTSTART:20240816T160000Z
DTEND:20240816T200000Z
LOCATION:Lyss Grien 
SUMMARY:Kantonalfinal Mille Gruyère
DESCRIPTION: Der diesjährige Kantonalfinal findet in Lyss/Grien statt. Organisiert von der LG Seeland.Im Kanton Bern müssen sich die Läufer/innen via eigene lokale Ausscheidungen zu ihren Regionalfinals qualifizieren. An den fünf regionalen Ausscheidungen qualifizieren sich unterschiedlich viele für den Berner Final. Pro Kategorie sind dies:Schnällschte Oberländer\,  Mittelländer = jeweils Top 6Schnällschti Ämmitaler\,  Oberaargauer\, [..]
END:VEVENT
END:VCALENDAR