BEGIN:VCALENDAR
VERSION:2.0
PRODID:-//eventon.com NONSGML v1.0//EN
BEGIN:VEVENT
UID:69e62f0415af5
DTSTAMP:20260420T154956
DTSTART:20260619T220000Z
DTEND:20260628T215900Z
LOCATION:Kerzers 
SUMMARY:Turnfest Kerzers 2026
DESCRIPTION: Das Turnfest 2026 wird zusammen von TBS und TBM durchgeführt und findet in Kerzers statt.Jugendturntage vom 20. bis 21. Juni 2026Turnfest Aktive vom 26. bis 28. Juni 2026Meldet Euch für dieses grossartige Fest an.Alle Informationen findet man auf der offiziellen Homepage des Organisators.
END:VEVENT
END:VCALENDAR