BEGIN:VCALENDAR
VERSION:2.0
PRODID:-//eventon.com NONSGML v1.0//EN
BEGIN:VEVENT
UID:69e6475b9a369
DTSTAMP:20260420T173347
DTSTART:20240829T170000Z
DTEND:20240829T200000Z
LOCATION:Tissot Arena\,  Biel (Amag Lounge) Boulevard des Sports 18\,  2504 Biel
SUMMARY:Ausserordentliche Delegiertenversammlung TBS
DESCRIPTION: Im Rahmen einer Teilrevision der TBS-Verbandsstatuten lädt der Vorstand des Turnverband Bern Seeland euch zur Vernehmlassung des Entwurfs der Statuten ein.Die wichtigsten Anpassungen der Teilrevision sind:Einfügen Ethikartikel STVAngleichung des Geschäfts- und Verbandsjahr auf das Kalenderjahr (1.1. – 31.12)Genehmigung der Jahresrechnung nicht mehr an der DV im Dezember\,  sondern neu an[..]
END:VEVENT
END:VCALENDAR