BEGIN:VCALENDAR
VERSION:2.0
PRODID:-//eventon.com NONSGML v1.0//EN
BEGIN:VEVENT
UID:69e6630fa9d08
DTSTAMP:20260420T193159
DTSTART:20250611T220000Z
DTEND:20250622T215900Z
LOCATION:Lausanne 
SUMMARY:ETF Lausanne
DESCRIPTION: Alles über das Eidgenössische Turnfest findet ihr auf der offiziellen Webseite.
END:VEVENT
END:VCALENDAR